BEGIN:VCALENDAR
VERSION:2.0
PRODID:-//Freiherr-vom-Stein-Schule - ECPv6.15.20//NONSGML v1.0//EN
CALSCALE:GREGORIAN
METHOD:PUBLISH
X-WR-CALNAME:Freiherr-vom-Stein-Schule
X-ORIGINAL-URL:https://freiherr-vom-stein-schule-wiesbaden.de
X-WR-CALDESC:Veranstaltungen für Freiherr-vom-Stein-Schule
REFRESH-INTERVAL;VALUE=DURATION:PT1H
X-Robots-Tag:noindex
X-PUBLISHED-TTL:PT1H
BEGIN:VTIMEZONE
TZID:Europe/Berlin
BEGIN:DAYLIGHT
TZOFFSETFROM:+0100
TZOFFSETTO:+0200
TZNAME:CEST
DTSTART:20210328T010000
END:DAYLIGHT
BEGIN:STANDARD
TZOFFSETFROM:+0200
TZOFFSETTO:+0100
TZNAME:CET
DTSTART:20211031T010000
END:STANDARD
BEGIN:DAYLIGHT
TZOFFSETFROM:+0100
TZOFFSETTO:+0200
TZNAME:CEST
DTSTART:20220327T010000
END:DAYLIGHT
BEGIN:STANDARD
TZOFFSETFROM:+0200
TZOFFSETTO:+0100
TZNAME:CET
DTSTART:20221030T010000
END:STANDARD
BEGIN:DAYLIGHT
TZOFFSETFROM:+0100
TZOFFSETTO:+0200
TZNAME:CEST
DTSTART:20230326T010000
END:DAYLIGHT
BEGIN:STANDARD
TZOFFSETFROM:+0200
TZOFFSETTO:+0100
TZNAME:CET
DTSTART:20231029T010000
END:STANDARD
END:VTIMEZONE
BEGIN:VEVENT
DTSTART;TZID=Europe/Berlin:20220204T080000
DTEND;TZID=Europe/Berlin:20220204T104500
DTSTAMP:20260425T141330
CREATED:20220107T230054Z
LAST-MODIFIED:20220107T230054Z
UID:2056-1643961600-1643971500@freiherr-vom-stein-schule-wiesbaden.de
SUMMARY:Ende des 1. Halbjahres
DESCRIPTION:Heute werden in der 3. Stunde die Halbjahreszeugnisse ausgegeben. Der Unterricht endet für alle nach der 3. Schulstunde um 10.45 Uhr.
URL:https://freiherr-vom-stein-schule-wiesbaden.de/event/ende-des-1-halbjahres-2/
END:VEVENT
END:VCALENDAR