BEGIN:VCALENDAR
VERSION:2.0
PRODID:-//Freiherr-vom-Stein-Schule - ECPv6.15.20//NONSGML v1.0//EN
CALSCALE:GREGORIAN
METHOD:PUBLISH
X-WR-CALNAME:Freiherr-vom-Stein-Schule
X-ORIGINAL-URL:https://freiherr-vom-stein-schule-wiesbaden.de
X-WR-CALDESC:Veranstaltungen für Freiherr-vom-Stein-Schule
REFRESH-INTERVAL;VALUE=DURATION:PT1H
X-Robots-Tag:noindex
X-PUBLISHED-TTL:PT1H
BEGIN:VTIMEZONE
TZID:Europe/Berlin
BEGIN:DAYLIGHT
TZOFFSETFROM:+0100
TZOFFSETTO:+0200
TZNAME:CEST
DTSTART:20210328T010000
END:DAYLIGHT
BEGIN:STANDARD
TZOFFSETFROM:+0200
TZOFFSETTO:+0100
TZNAME:CET
DTSTART:20211031T010000
END:STANDARD
BEGIN:DAYLIGHT
TZOFFSETFROM:+0100
TZOFFSETTO:+0200
TZNAME:CEST
DTSTART:20220327T010000
END:DAYLIGHT
BEGIN:STANDARD
TZOFFSETFROM:+0200
TZOFFSETTO:+0100
TZNAME:CET
DTSTART:20221030T010000
END:STANDARD
BEGIN:DAYLIGHT
TZOFFSETFROM:+0100
TZOFFSETTO:+0200
TZNAME:CEST
DTSTART:20230326T010000
END:DAYLIGHT
BEGIN:STANDARD
TZOFFSETFROM:+0200
TZOFFSETTO:+0100
TZNAME:CET
DTSTART:20231029T010000
END:STANDARD
END:VTIMEZONE
BEGIN:VEVENT
DTSTART;VALUE=DATE:20220228
DTEND;VALUE=DATE:20220301
DTSTAMP:20260425T122437
CREATED:20220107T230236Z
LAST-MODIFIED:20220107T230236Z
UID:2060-1646006400-1646092799@freiherr-vom-stein-schule-wiesbaden.de
SUMMARY:Rosenmontag
DESCRIPTION:Beweglicher Ferientag – kein Unterricht
URL:https://freiherr-vom-stein-schule-wiesbaden.de/event/rosenmontag-6/
END:VEVENT
END:VCALENDAR